BEGIN:VCALENDAR
VERSION:2.0
PRODID:-//Mikami Judo Club Lausanne - ECPv6.6.1//NONSGML v1.0//EN
CALSCALE:GREGORIAN
METHOD:PUBLISH
X-ORIGINAL-URL:https://mjcll.allintech.ch
X-WR-CALDESC:évènements pour Mikami Judo Club Lausanne
REFRESH-INTERVAL;VALUE=DURATION:PT1H
X-Robots-Tag:noindex
X-PUBLISHED-TTL:PT1H
BEGIN:VTIMEZONE
TZID:Europe/Zurich
BEGIN:DAYLIGHT
TZOFFSETFROM:+0100
TZOFFSETTO:+0200
TZNAME:CEST
DTSTART:20220327T010000
END:DAYLIGHT
BEGIN:STANDARD
TZOFFSETFROM:+0200
TZOFFSETTO:+0100
TZNAME:CET
DTSTART:20221030T010000
END:STANDARD
END:VTIMEZONE
BEGIN:VEVENT
DTSTART;TZID=Europe/Zurich:20221009T110000
DTEND;TZID=Europe/Zurich:20221009T150000
DTSTAMP:20260421T101201
CREATED:20220926T155533Z
LAST-MODIFIED:20221027T160828Z
UID:2089-1665313200-1665327600@mjcll.allintech.ch
SUMMARY:JJB - Open Mat
DESCRIPTION:
URL:https://mjcll.allintech.ch/event/jjb-open-mat/
LOCATION:My account
CATEGORIES:Calendrier,Stage
ATTACH;FMTTYPE=image/png:https://mjcll.allintech.ch/wp-content/uploads/2021/09/mikami_logo_BJJ.png
END:VEVENT
BEGIN:VEVENT
DTSTART;TZID=Europe/Zurich:20221015T090000
DTEND;TZID=Europe/Zurich:20221015T130000
DTSTAMP:20260421T101201
CREATED:20211002T130520Z
LAST-MODIFIED:20221027T163237Z
UID:1886-1665824400-1665838800@mjcll.allintech.ch
SUMMARY:KATA - Cours #10
DESCRIPTION:Programme : – Nage no Kata – Katame no Kata – Kime no Kata – Ju no Kata – Kodokan Goshin Jutsu Sous la direction de Ma?tre Mikami 9? Dan Cours homologu? par la F?d?ration Suisse de Judo & Ju-Jitsu\n\n\n\n\nLiens
URL:https://mjcll.allintech.ch/event/kata-cours-10-4/
LOCATION:My account
CATEGORIES:Calendrier,Kata
ATTACH;FMTTYPE=image/jpeg:https://mjcll.allintech.ch/wp-content/uploads/2022/06/Kata1.jpg
END:VEVENT
BEGIN:VEVENT
DTSTART;TZID=Europe/Zurich:20221023T110000
DTEND;TZID=Europe/Zurich:20221023T150000
DTSTAMP:20260421T101201
CREATED:20220926T155645Z
LAST-MODIFIED:20221027T160802Z
UID:2091-1666522800-1666537200@mjcll.allintech.ch
SUMMARY:JJB - Open Mat
DESCRIPTION:
URL:https://mjcll.allintech.ch/event/jjb-open-mat-2/
LOCATION:My account
CATEGORIES:Calendrier,Stage
ATTACH;FMTTYPE=image/png:https://mjcll.allintech.ch/wp-content/uploads/2021/09/mikami_logo_BJJ.png
END:VEVENT
END:VCALENDAR