BEGIN:VCALENDAR
VERSION:2.0
PRODID:-//Mikami Judo Club Lausanne - ECPv6.6.1//NONSGML v1.0//EN
CALSCALE:GREGORIAN
METHOD:PUBLISH
X-ORIGINAL-URL:https://mjcll.allintech.ch
X-WR-CALDESC:évènements pour Mikami Judo Club Lausanne
REFRESH-INTERVAL;VALUE=DURATION:PT1H
X-Robots-Tag:noindex
X-PUBLISHED-TTL:PT1H
BEGIN:VTIMEZONE
TZID:Europe/Zurich
BEGIN:DAYLIGHT
TZOFFSETFROM:+0100
TZOFFSETTO:+0200
TZNAME:CEST
DTSTART:20220327T010000
END:DAYLIGHT
BEGIN:STANDARD
TZOFFSETFROM:+0200
TZOFFSETTO:+0100
TZNAME:CET
DTSTART:20221030T010000
END:STANDARD
END:VTIMEZONE
BEGIN:VEVENT
DTSTART;TZID=Europe/Zurich:20220108T090000
DTEND;TZID=Europe/Zurich:20220108T130000
DTSTAMP:20260422T001026
CREATED:20191225T181356Z
LAST-MODIFIED:20221027T182758Z
UID:1514-1641632400-1641646800@mjcll.allintech.ch
SUMMARY:KATA - Cours #1
DESCRIPTION:Programme : – Nage no Kata – Katame no Kata – Kime no Kata – Ju no Kata – Kodokan Goshin Jutsu Sous la direction de Ma?tre Mikami 9? Dan Cours homologu? par la F?d?ration Suisse de Judo & Ju-Jitsu\n\n\n\n\nLiens
URL:https://mjcll.allintech.ch/event/kata-cours-11/
LOCATION:My account
CATEGORIES:Calendrier,Kata
ATTACH;FMTTYPE=image/jpeg:https://mjcll.allintech.ch/wp-content/uploads/2022/06/Kata1.jpg
END:VEVENT
BEGIN:VEVENT
DTSTART;TZID=Europe/Zurich:20220115T140000
DTEND;TZID=Europe/Zurich:20220115T180000
DTSTAMP:20260422T001026
CREATED:20211026T152540Z
LAST-MODIFIED:20221027T182735Z
UID:1965-1642255200-1642269600@mjcll.allintech.ch
SUMMARY:Sabre\, Ju-Jitsu et Judo
DESCRIPTION:Program : – The relationship between saber techniques and bare hand techniques (see attached page). Under the direction of Bernard Wirtz 6? Dan Course approved by the Swiss Federation of Judo & Ju-Jitsu\n\n\n\n\nConnections
URL:https://mjcll.allintech.ch/event/cours-kata/
LOCATION:My account
CATEGORIES:Calendrier,Stage
ATTACH;FMTTYPE=image/jpeg:https://mjcll.allintech.ch/wp-content/uploads/2022/06/LOGO_bdsk.jpg
END:VEVENT
BEGIN:VEVENT
DTSTART;TZID=Europe/Zurich:20220129T090000
DTEND;TZID=Europe/Zurich:20220129T130000
DTSTAMP:20260422T001026
CREATED:20141216T154308Z
LAST-MODIFIED:20221027T182647Z
UID:649-1643446800-1643461200@mjcll.allintech.ch
SUMMARY:KATA - ITSUTSU & JUNO NO-KATA
DESCRIPTION:Programme : – Itsutsu no Kata – Juno no Kata Sous la direction de Ma?tre Mikami 9? Dan Cours homologu? par la F?d?ration Suisse de Judo & Ju-Jitsu\n\n\n\n\nLiens
URL:https://mjcll.allintech.ch/event/kata-itsutsu-no-kata/
LOCATION:My account
CATEGORIES:Calendrier,Kata
ATTACH;FMTTYPE=image/jpeg:https://mjcll.allintech.ch/wp-content/uploads/2022/06/Kata1-1.jpg
END:VEVENT
END:VCALENDAR