BEGIN:VCALENDAR
VERSION:2.0
PRODID:-//Mikami Judo Club Lausanne - ECPv6.6.1//NONSGML v1.0//EN
CALSCALE:GREGORIAN
METHOD:PUBLISH
X-ORIGINAL-URL:https://mjcll.allintech.ch
X-WR-CALDESC:évènements pour Mikami Judo Club Lausanne
REFRESH-INTERVAL;VALUE=DURATION:PT1H
X-Robots-Tag:noindex
X-PUBLISHED-TTL:PT1H
BEGIN:VTIMEZONE
TZID:Europe/Zurich
BEGIN:DAYLIGHT
TZOFFSETFROM:+0100
TZOFFSETTO:+0200
TZNAME:CEST
DTSTART:20220327T010000
END:DAYLIGHT
BEGIN:STANDARD
TZOFFSETFROM:+0200
TZOFFSETTO:+0100
TZNAME:CET
DTSTART:20221030T010000
END:STANDARD
END:VTIMEZONE
BEGIN:VEVENT
DTSTART;TZID=Europe/Zurich:20221211T090000
DTEND;TZID=Europe/Zurich:20221211T120000
DTSTAMP:20260421T095355
CREATED:20220926T160455Z
LAST-MODIFIED:20221027T161316Z
UID:2101-1670749200-1670760000@mjcll.allintech.ch
SUMMARY:Tournoi de No?l
DESCRIPTION:
URL:https://mjcll.allintech.ch/event/tournoi-de-noel-3/
LOCATION:My account
CATEGORIES:Calendrier,Shiai
ATTACH;FMTTYPE=image/jpeg:https://mjcll.allintech.ch/wp-content/uploads/2021/09/MJCL-Bonnet-web.jpg
END:VEVENT
END:VCALENDAR