BEGIN:VCALENDAR
VERSION:2.0
PRODID:-//Mikami Judo Club Lausanne - ECPv6.6.1//NONSGML v1.0//EN
CALSCALE:GREGORIAN
METHOD:PUBLISH
X-ORIGINAL-URL:https://mjcll.allintech.ch
X-WR-CALDESC:évènements pour Mikami Judo Club Lausanne
REFRESH-INTERVAL;VALUE=DURATION:PT1H
X-Robots-Tag:noindex
X-PUBLISHED-TTL:PT1H
BEGIN:VTIMEZONE
TZID:Europe/Zurich
BEGIN:DAYLIGHT
TZOFFSETFROM:+0100
TZOFFSETTO:+0200
TZNAME:CEST
DTSTART:20220327T010000
END:DAYLIGHT
BEGIN:STANDARD
TZOFFSETFROM:+0200
TZOFFSETTO:+0100
TZNAME:CET
DTSTART:20221030T010000
END:STANDARD
END:VTIMEZONE
BEGIN:VEVENT
DTSTART;TZID=Europe/Zurich:20220625T183000
DTEND;TZID=Europe/Zurich:20220625T220000
DTSTAMP:20260421T181042
CREATED:20220502T135550Z
LAST-MODIFIED:20221027T163028Z
UID:2025-1656181800-1656194400@mjcll.allintech.ch
SUMMARY:Repas de Soutien
DESCRIPTION:Inscrivez-vous au repas de soutien du MJCL ? : administration@mjcl.ch
URL:https://mjcll.allintech.ch/event/repas-de-soutien-2/
LOCATION:My account
CATEGORIES:Calendrier,Kata,Shiai,Stage
ATTACH;FMTTYPE=image/jpeg:https://mjcll.allintech.ch/wp-content/uploads/2022/06/LogoMJCL.jpg
END:VEVENT
END:VCALENDAR