BEGIN:VCALENDAR
VERSION:2.0
PRODID:-//Mikami Judo Club Lausanne - ECPv6.6.1//NONSGML v1.0//EN
CALSCALE:GREGORIAN
METHOD:PUBLISH
X-ORIGINAL-URL:https://mjcll.allintech.ch
X-WR-CALDESC:évènements pour Mikami Judo Club Lausanne
REFRESH-INTERVAL;VALUE=DURATION:PT1H
X-Robots-Tag:noindex
X-PUBLISHED-TTL:PT1H
BEGIN:VTIMEZONE
TZID:Europe/Zurich
BEGIN:DAYLIGHT
TZOFFSETFROM:+0100
TZOFFSETTO:+0200
TZNAME:CEST
DTSTART:20220327T010000
END:DAYLIGHT
BEGIN:STANDARD
TZOFFSETFROM:+0200
TZOFFSETTO:+0100
TZNAME:CET
DTSTART:20221030T010000
END:STANDARD
END:VTIMEZONE
BEGIN:VEVENT
DTSTART;TZID=Europe/Zurich:20221105T090000
DTEND;TZID=Europe/Zurich:20221105T170000
DTSTAMP:20260421T103000
CREATED:20210919T151013Z
LAST-MODIFIED:20221027T160728Z
UID:1836-1667638800-1667667600@mjcll.allintech.ch
SUMMARY:Examens Dan Judo - FSJ
DESCRIPTION:
URL:https://mjcll.allintech.ch/event/examens-dan-judo-fsj/
LOCATION:My account
CATEGORIES:Calendrier,Kata
ATTACH;FMTTYPE=image/jpeg:https://mjcll.allintech.ch/wp-content/uploads/2021/09/FSJ.jpg
END:VEVENT
END:VCALENDAR