BEGIN:VCALENDAR
VERSION:2.0
PRODID:-//Mikami Judo Club Lausanne - ECPv6.6.1//NONSGML v1.0//EN
CALSCALE:GREGORIAN
METHOD:PUBLISH
X-ORIGINAL-URL:https://mjcll.allintech.ch
X-WR-CALDESC:évènements pour Mikami Judo Club Lausanne
REFRESH-INTERVAL;VALUE=DURATION:PT1H
X-Robots-Tag:noindex
X-PUBLISHED-TTL:PT1H
BEGIN:VTIMEZONE
TZID:Europe/Zurich
BEGIN:DAYLIGHT
TZOFFSETFROM:+0100
TZOFFSETTO:+0200
TZNAME:CEST
DTSTART:20220327T010000
END:DAYLIGHT
BEGIN:STANDARD
TZOFFSETFROM:+0200
TZOFFSETTO:+0100
TZNAME:CET
DTSTART:20221030T010000
END:STANDARD
END:VTIMEZONE
BEGIN:VEVENT
DTSTART;TZID=Europe/Zurich:20220604T090000
DTEND;TZID=Europe/Zurich:20220604T130000
DTSTAMP:20260421T173751
CREATED:20211002T130050Z
LAST-MODIFIED:20221027T163143Z
UID:1878-1654333200-1654347600@mjcll.allintech.ch
SUMMARY:KATA - Cours #6
DESCRIPTION:Programme : – Nage no Kata – Katame no Kata – Kime no Kata – Ju no Kata – Kodokan Goshin Jutsu Sous la direction de Ma?tre Mikami 9? Dan Cours homologu? par la F?d?ration Suisse de Judo & Ju-Jitsu\n\n\n\n\nLiens
URL:https://mjcll.allintech.ch/event/kata-cours-6-2/
LOCATION:My account
CATEGORIES:Calendrier,Kata
ATTACH;FMTTYPE=image/jpeg:https://mjcll.allintech.ch/wp-content/uploads/2022/06/Kata1.jpg
END:VEVENT
BEGIN:VEVENT
DTSTART;TZID=Europe/Zurich:20220611T090000
DTEND;TZID=Europe/Zurich:20220611T170000
DTSTAMP:20260421T173751
CREATED:20211029T155131Z
LAST-MODIFIED:20221027T163121Z
UID:1985-1654938000-1654966800@mjcll.allintech.ch
SUMMARY:Examens Dan Judo - FSJ
DESCRIPTION:
URL:https://mjcll.allintech.ch/event/examens-dan-judo-fsj-2/
LOCATION:My account
CATEGORIES:Calendrier,Kata
ATTACH;FMTTYPE=image/jpeg:https://mjcll.allintech.ch/wp-content/uploads/2021/09/FSJ.jpg
END:VEVENT
BEGIN:VEVENT
DTSTART;TZID=Europe/Zurich:20220625T090000
DTEND;TZID=Europe/Zurich:20220625T130000
DTSTAMP:20260421T173751
CREATED:20220611T164444Z
LAST-MODIFIED:20221027T162217Z
UID:2076-1656147600-1656162000@mjcll.allintech.ch
SUMMARY:Cours de Kata - AVJJ
DESCRIPTION:Programme : – Nage no Kata – Katame no Kata – Kime no Kata – Ju no Kata – Kodokan Goshin Jutsu Sous la direction de Ma?tre Mikami 9? Dan Cours homologu? par la F?d?ration Suisse de Judo & Ju-Jitsu\n\n\n\n\nLiens
URL:https://mjcll.allintech.ch/event/cours-de-kata-avjj/
LOCATION:My account
CATEGORIES:Calendrier,Kata
ATTACH;FMTTYPE=image/jpeg:https://mjcll.allintech.ch/wp-content/uploads/2022/06/AVJJ1.jpg
END:VEVENT
BEGIN:VEVENT
DTSTART;TZID=Europe/Zurich:20220625T183000
DTEND;TZID=Europe/Zurich:20220625T220000
DTSTAMP:20260421T173751
CREATED:20220502T135550Z
LAST-MODIFIED:20221027T163028Z
UID:2025-1656181800-1656194400@mjcll.allintech.ch
SUMMARY:Repas de Soutien
DESCRIPTION:Inscrivez-vous au repas de soutien du MJCL ? : administration@mjcl.ch
URL:https://mjcll.allintech.ch/event/repas-de-soutien-2/
LOCATION:My account
CATEGORIES:Calendrier,Kata,Shiai,Stage
ATTACH;FMTTYPE=image/jpeg:https://mjcll.allintech.ch/wp-content/uploads/2022/06/LogoMJCL.jpg
END:VEVENT
END:VCALENDAR