BEGIN:VCALENDAR
VERSION:2.0
PRODID:-//Mikami Judo Club Lausanne - ECPv6.6.1//NONSGML v1.0//EN
CALSCALE:GREGORIAN
METHOD:PUBLISH
X-ORIGINAL-URL:https://mjcll.allintech.ch
X-WR-CALDESC:évènements pour Mikami Judo Club Lausanne
REFRESH-INTERVAL;VALUE=DURATION:PT1H
X-Robots-Tag:noindex
X-PUBLISHED-TTL:PT1H
BEGIN:VTIMEZONE
TZID:Europe/Zurich
BEGIN:DAYLIGHT
TZOFFSETFROM:+0100
TZOFFSETTO:+0200
TZNAME:CEST
DTSTART:20220327T010000
END:DAYLIGHT
BEGIN:STANDARD
TZOFFSETFROM:+0200
TZOFFSETTO:+0100
TZNAME:CET
DTSTART:20221030T010000
END:STANDARD
END:VTIMEZONE
BEGIN:VEVENT
DTSTART;TZID=Europe/Zurich:20220619T090000
DTEND;TZID=Europe/Zurich:20220619T150000
DTSTAMP:20260421T193409
CREATED:20220603T124200Z
LAST-MODIFIED:20221027T163058Z
UID:2073-1655629200-1655650800@mjcll.allintech.ch
SUMMARY:JJB - s?minaire
DESCRIPTION:
URL:https://mjcll.allintech.ch/event/jjb-seminaire/
LOCATION:My account
CATEGORIES:Calendrier,Stage
ATTACH;FMTTYPE=image/png:https://mjcll.allintech.ch/wp-content/uploads/2022/06/mikami_logo_BJJ-2.png
END:VEVENT
END:VCALENDAR