BEGIN:VCALENDAR
VERSION:2.0
PRODID:-//Mikami Judo Club Lausanne - ECPv6.6.1//NONSGML v1.0//EN
CALSCALE:GREGORIAN
METHOD:PUBLISH
X-ORIGINAL-URL:https://mjcll.allintech.ch
X-WR-CALDESC:évènements pour Mikami Judo Club Lausanne
REFRESH-INTERVAL;VALUE=DURATION:PT1H
X-Robots-Tag:noindex
X-PUBLISHED-TTL:PT1H
BEGIN:VTIMEZONE
TZID:Europe/Zurich
BEGIN:DAYLIGHT
TZOFFSETFROM:+0100
TZOFFSETTO:+0200
TZNAME:CEST
DTSTART:20210328T010000
END:DAYLIGHT
BEGIN:STANDARD
TZOFFSETFROM:+0200
TZOFFSETTO:+0100
TZNAME:CET
DTSTART:20211031T010000
END:STANDARD
END:VTIMEZONE
BEGIN:VEVENT
DTSTART;TZID=Europe/Zurich:20211202T070000
DTEND;TZID=Europe/Zurich:20211202T170000
DTSTAMP:20260422T043216
CREATED:20210826T144641Z
LAST-MODIFIED:20221027T183126Z
UID:1821-1638428400-1638464400@mjcll.allintech.ch
SUMMARY:Securitas
DESCRIPTION:
URL:https://mjcll.allintech.ch/event/securitas-3/
LOCATION:My account
CATEGORIES:Calendrier,Stage
ATTACH;FMTTYPE=image/png:https://mjcll.allintech.ch/wp-content/uploads/2022/06/Securitas.png
END:VEVENT
END:VCALENDAR