BEGIN:VCALENDAR
VERSION:2.0
PRODID:-//Mikami Judo Club Lausanne - ECPv6.6.1//NONSGML v1.0//EN
CALSCALE:GREGORIAN
METHOD:PUBLISH
X-ORIGINAL-URL:https://mjcll.allintech.ch
X-WR-CALDESC:évènements pour Mikami Judo Club Lausanne
REFRESH-INTERVAL;VALUE=DURATION:PT1H
X-Robots-Tag:noindex
X-PUBLISHED-TTL:PT1H
BEGIN:VTIMEZONE
TZID:Europe/Zurich
BEGIN:DAYLIGHT
TZOFFSETFROM:+0100
TZOFFSETTO:+0200
TZNAME:CEST
DTSTART:20220327T010000
END:DAYLIGHT
BEGIN:STANDARD
TZOFFSETFROM:+0200
TZOFFSETTO:+0100
TZNAME:CET
DTSTART:20221030T010000
END:STANDARD
END:VTIMEZONE
BEGIN:VEVENT
DTSTART;TZID=Europe/Zurich:20220402T090000
DTEND;TZID=Europe/Zurich:20220402T130000
DTSTAMP:20260421T205756
CREATED:20211002T125747Z
LAST-MODIFIED:20221027T182330Z
UID:1874-1648890000-1648904400@mjcll.allintech.ch
SUMMARY:KATA - Cours #4
DESCRIPTION:Programme : – Nage no Kata – Katame no Kata – Kime no Kata – Ju no Kata – Kodokan Goshin Jutsu Sous la direction de Ma?tre Mikami 9? Dan Cours homologu? par la F?d?ration Suisse de Judo & Ju-Jitsu\n\n\n\n\nLiens
URL:https://mjcll.allintech.ch/event/kata-cours-4-2/
LOCATION:My account
CATEGORIES:Calendrier,Kata
ATTACH;FMTTYPE=image/jpeg:https://mjcll.allintech.ch/wp-content/uploads/2022/06/Kata1.jpg
END:VEVENT
BEGIN:VEVENT
DTSTART;TZID=Europe/Zurich:20220406T190000
DTEND;TZID=Europe/Zurich:20220406T210000
DTSTAMP:20260421T205756
CREATED:20220304T144149Z
LAST-MODIFIED:20221027T182302Z
UID:2008-1649271600-1649278800@mjcll.allintech.ch
SUMMARY:Assembl?e G?n?rale
DESCRIPTION:
URL:https://mjcll.allintech.ch/event/assemblee-generale-3/
LOCATION:My account
CATEGORIES:Calendrier
ATTACH;FMTTYPE=image/jpeg:https://mjcll.allintech.ch/wp-content/uploads/2022/06/LogoMJCL.jpg
END:VEVENT
BEGIN:VEVENT
DTSTART;TZID=Europe/Zurich:20220430T130000
DTEND;TZID=Europe/Zurich:20220501T113000
DTSTAMP:20260421T205756
CREATED:20220304T143916Z
LAST-MODIFIED:20221027T182215Z
UID:2006-1651323600-1651404600@mjcll.allintech.ch
SUMMARY:Stage CCVD
DESCRIPTION:
URL:https://mjcll.allintech.ch/event/stage-ccvd/
LOCATION:My account
CATEGORIES:Calendrier,Stage
ATTACH;FMTTYPE=image/jpeg:https://mjcll.allintech.ch/wp-content/uploads/2022/06/AVJJ1.jpg
END:VEVENT
END:VCALENDAR