BEGIN:VCALENDAR
VERSION:2.0
PRODID:-//Mikami Judo Club Lausanne - ECPv6.6.1//NONSGML v1.0//EN
CALSCALE:GREGORIAN
METHOD:PUBLISH
X-ORIGINAL-URL:https://mjcll.allintech.ch
X-WR-CALDESC:évènements pour Mikami Judo Club Lausanne
REFRESH-INTERVAL;VALUE=DURATION:PT1H
X-Robots-Tag:noindex
X-PUBLISHED-TTL:PT1H
BEGIN:VTIMEZONE
TZID:Europe/Zurich
BEGIN:DAYLIGHT
TZOFFSETFROM:+0100
TZOFFSETTO:+0200
TZNAME:CEST
DTSTART:20210328T010000
END:DAYLIGHT
BEGIN:STANDARD
TZOFFSETFROM:+0200
TZOFFSETTO:+0100
TZNAME:CET
DTSTART:20211031T010000
END:STANDARD
END:VTIMEZONE
BEGIN:VEVENT
DTSTART;TZID=Europe/Zurich:20211113T090000
DTEND;TZID=Europe/Zurich:20211113T170000
DTSTAMP:20260422T042222
CREATED:20150427T185513Z
LAST-MODIFIED:20221027T183350Z
UID:711-1636794000-1636822800@mjcll.allintech.ch
SUMMARY:Examens Dan Judo - FSJ
DESCRIPTION:Examens de DAN Judo\nLiens
URL:https://mjcll.allintech.ch/event/examen-dan-2/
LOCATION:My account
CATEGORIES:Calendrier,Kata
ATTACH;FMTTYPE=image/jpeg:https://mjcll.allintech.ch/wp-content/uploads/2021/09/FSJ.jpg
END:VEVENT
BEGIN:VEVENT
DTSTART;TZID=Europe/Zurich:20211114T080000
DTEND;TZID=Europe/Zurich:20211114T170000
DTSTAMP:20260422T042222
CREATED:20211001T153401Z
LAST-MODIFIED:20221027T183304Z
UID:1862-1636876800-1636909200@mjcll.allintech.ch
SUMMARY:BJJ - Open Mat
DESCRIPTION:
URL:https://mjcll.allintech.ch/event/bjj-open-mat-19/
LOCATION:My account
CATEGORIES:Calendrier,Stage
ATTACH;FMTTYPE=image/png:https://mjcll.allintech.ch/wp-content/uploads/2021/09/mikami_logo_BJJ.png
END:VEVENT
BEGIN:VEVENT
DTSTART;TZID=Europe/Zurich:20211119T070000
DTEND;TZID=Europe/Zurich:20211119T210000
DTSTAMP:20260422T042222
CREATED:20210826T144555Z
LAST-MODIFIED:20221027T183245Z
UID:1819-1637305200-1637355600@mjcll.allintech.ch
SUMMARY:Securitas
DESCRIPTION:
URL:https://mjcll.allintech.ch/event/securitas-2/
LOCATION:My account
CATEGORIES:Calendrier,Stage
ATTACH;FMTTYPE=image/png:https://mjcll.allintech.ch/wp-content/uploads/2022/06/Securitas.png
END:VEVENT
BEGIN:VEVENT
DTSTART;TZID=Europe/Zurich:20211121T080000
DTEND;TZID=Europe/Zurich:20211121T180000
DTSTAMP:20260422T042222
CREATED:20211001T153450Z
LAST-MODIFIED:20221027T183220Z
UID:1864-1637481600-1637517600@mjcll.allintech.ch
SUMMARY:BJJ - Open Mat
DESCRIPTION:
URL:https://mjcll.allintech.ch/event/bjj-open-mat-20/
LOCATION:My account
CATEGORIES:Calendrier,Stage
ATTACH;FMTTYPE=image/png:https://mjcll.allintech.ch/wp-content/uploads/2021/09/mikami_logo_BJJ.png
END:VEVENT
BEGIN:VEVENT
DTSTART;TZID=Europe/Zurich:20211127T090000
DTEND;TZID=Europe/Zurich:20211127T130000
DTSTAMP:20260422T042222
CREATED:20171211T142508Z
LAST-MODIFIED:20221027T183145Z
UID:1078-1638003600-1638018000@mjcll.allintech.ch
SUMMARY:KATA - AVJJ
DESCRIPTION:Programme : – Nage no Kata – Katame no Kata – Kime no Kata – Ju no Kata – Kodokan Goshin Jutsu Sous la direction de Ma?tre Mikami 9? Dan Cours homologu? par la F?d?ration Suisse de Judo & Ju-Jitsu\n\n\n\n\nLiens
URL:https://mjcll.allintech.ch/event/kata-avjj/
LOCATION:My account
CATEGORIES:Calendrier,Kata
ATTACH;FMTTYPE=image/jpeg:https://mjcll.allintech.ch/wp-content/uploads/2022/06/AVJJ1.jpg
END:VEVENT
BEGIN:VEVENT
DTSTART;TZID=Europe/Zurich:20211128T110000
DTEND;TZID=Europe/Zurich:20211128T150000
DTSTAMP:20260422T042222
CREATED:20211001T153542Z
LAST-MODIFIED:20221027T183118Z
UID:1866-1638097200-1638111600@mjcll.allintech.ch
SUMMARY:BJJ - Open Mat
DESCRIPTION:
URL:https://mjcll.allintech.ch/event/bjj-open-mat-21/
LOCATION:My account
CATEGORIES:Calendrier,Stage
ATTACH;FMTTYPE=image/png:https://mjcll.allintech.ch/wp-content/uploads/2021/09/mikami_logo_BJJ.png
END:VEVENT
END:VCALENDAR